BEGIN:VCALENDAR
VERSION:2.0
PRODID:http://pfarrei-tschirn.de
BEGIN:VEVENT
UID:b5050d3a-36ba-11f1-a8bf-0242ac11002b-1777568400000-de
DTSTAMP:20260412T215815Z
DTSTART:20260430T170000Z
DTEND:20260430T180000Z
SUMMARY;LANGUAGE=de:Hl. Messe mit Eröffnung der Maiandacht
END:VEVENT
END:VCALENDAR
