BEGIN:VCALENDAR
VERSION:2.0
PRODID:http://pfarrei-tschirn.de
BEGIN:VEVENT
UID:b4ad2931-36ba-11f1-a8bf-0242ac11002b-1777622400000-de
DTSTAMP:20260412T215814Z
DTSTART:20260501T080000Z
DTEND:20260501T090000Z
SUMMARY;LANGUAGE=de:Festgottesdienst
END:VEVENT
END:VCALENDAR
