BEGIN:VCALENDAR
VERSION:2.0
PRODID:http://pfarrei-tschirn.de
BEGIN:VEVENT
UID:b466f20c-34bb-11f1-a8bf-0242ac11002b-1777377600000-de
DTSTAMP:20260410T090021Z
DTSTART:20260428T120000Z
DTEND:20260428T130000Z
SUMMARY;LANGUAGE=de:Eucharistiefeier
END:VEVENT
END:VCALENDAR
