BEGIN:VCALENDAR
VERSION:2.0
PRODID:http://pfarrei-tschirn.de
BEGIN:VEVENT
UID:b0a9178e-3004-11f1-a8bf-0242ac11002b-1777698000000-de
DTSTAMP:20260404T090012Z
DTSTART:20260502T050000Z
DTEND:20260502T060000Z
SUMMARY;LANGUAGE=de:Eucharistiefeier
END:VEVENT
END:VCALENDAR
