BEGIN:VCALENDAR
VERSION:2.0
PRODID:http://pfarrei-tschirn.de
BEGIN:VEVENT
UID:afc2cced-3972-11f1-a8bf-0242ac11002b-1778758200000-de
DTSTAMP:20260416T090016Z
DTSTART:20260514T113000Z
DTEND:20260514T123000Z
SUMMARY;LANGUAGE=de:Mai-Andacht an der Waldkapelle
END:VEVENT
END:VCALENDAR
