BEGIN:VCALENDAR
VERSION:2.0
PRODID:http://pfarrei-tschirn.de
BEGIN:VEVENT
UID:af7f2f71-2b4d-11f1-a15b-0242ac11002b-1777222800000-de
DTSTAMP:20260329T090008Z
DTSTART:20260426T170000Z
DTEND:20260426T180000Z
SUMMARY;LANGUAGE=de:Eucharistiefeier
DESCRIPTION;LANGUAGE=de:Weltgebetstag ? anschließend Empfang im Pfarrheim
END:VEVENT
END:VCALENDAR
