BEGIN:VCALENDAR
VERSION:2.0
PRODID:http://pfarrei-tschirn.de
BEGIN:VEVENT
UID:af02cfac-36ba-11f1-a8bf-0242ac11002b-1777190400000-de
DTSTAMP:20260412T215805Z
DTSTART:20260426T080000Z
DTEND:20260426T090000Z
SUMMARY;LANGUAGE=de:Festgottesdienst mit Feier der Erst-und Jubelkommunion
END:VEVENT
END:VCALENDAR
