BEGIN:VCALENDAR
VERSION:2.0
PRODID:http://pfarrei-tschirn.de
BEGIN:VEVENT
UID:ae7f47bd-36ba-11f1-a8bf-0242ac11002b-1777185000000-de
DTSTAMP:20260412T215804Z
DTSTART:20260426T063000Z
DTEND:20260426T073000Z
SUMMARY;LANGUAGE=de:Wort-Gottes-Feier
END:VEVENT
END:VCALENDAR
