BEGIN:VCALENDAR
VERSION:2.0
PRODID:http://pfarrei-tschirn.de
BEGIN:VEVENT
UID:ad8cfc1b-2b4d-11f1-a15b-0242ac11002b-1777194000000-de
DTSTAMP:20260329T090004Z
DTSTART:20260426T090000Z
DTEND:20260426T100000Z
SUMMARY;LANGUAGE=de:Eucharistiefeier
END:VEVENT
END:VCALENDAR
