BEGIN:VCALENDAR
VERSION:2.0
PRODID:http://pfarrei-tschirn.de
BEGIN:VEVENT
UID:ad1d7164-2b4d-11f1-a15b-0242ac11002b-1777181400000-de
DTSTAMP:20260329T090004Z
DTSTART:20260426T053000Z
DTEND:20260426T063000Z
SUMMARY;LANGUAGE=de:Eucharistiefeier
END:VEVENT
END:VCALENDAR
