BEGIN:VCALENDAR
VERSION:2.0
PRODID:http://pfarrei-tschirn.de
BEGIN:VEVENT
UID:acc31c5b-2b4d-11f1-a15b-0242ac11002b-1777188600000-de
DTSTAMP:20260329T090003Z
DTSTART:20260426T073000Z
DTEND:20260426T083000Z
SUMMARY;LANGUAGE=de:Eucharistiefeier (Domkapitel)
DESCRIPTION;LANGUAGE=de:Frauenkammerchor
END:VEVENT
END:VCALENDAR
