BEGIN:VCALENDAR
VERSION:2.0
PRODID:http://pfarrei-tschirn.de
BEGIN:VEVENT
UID:ac48443a-36ba-11f1-a8bf-0242ac11002b-1778400000000-de
DTSTAMP:20260412T215800Z
DTSTART:20260510T080000Z
DTEND:20260510T090000Z
SUMMARY;LANGUAGE=de:Wort-Gottes-Feier als Familiengottesdienst zum Muttertag mit Gebetsgedenken an:
DESCRIPTION;LANGUAGE=de:+ Helmut Pfadenhauer
END:VEVENT
END:VCALENDAR
