BEGIN:VCALENDAR
VERSION:2.0
PRODID:http://pfarrei-tschirn.de
BEGIN:VEVENT
UID:aa5de0f3-3972-11f1-a8bf-0242ac11002b-1778743800000-de
DTSTAMP:20260416T090007Z
DTSTART:20260514T073000Z
DTEND:20260514T093000Z
SUMMARY;LANGUAGE=de:Ökumenischer Gottesdienst
DESCRIPTION;LANGUAGE=de:auf dem Groß-von-Trockau-Platz in Erlangen-Buckenhof zusammen mit St. Matthäus Uttenreuth\, St. Theresia und St. Markus
END:VEVENT
END:VCALENDAR
