BEGIN:VCALENDAR
VERSION:2.0
PRODID:http://pfarrei-tschirn.de
BEGIN:VEVENT
UID:a8dd4d37-34bb-11f1-a8bf-0242ac11002b-1778227200000-de
DTSTAMP:20260410T090002Z
DTSTART:20260508T080000Z
DTEND:20260508T100000Z
SUMMARY;LANGUAGE=de:Stille Anbetung bis 12:00 Uhr
END:VEVENT
END:VCALENDAR
