BEGIN:VCALENDAR
VERSION:2.0
PRODID:http://pfarrei-tschirn.de
BEGIN:VEVENT
UID:a79c9df1-3972-11f1-a8bf-0242ac11002b-1778736600000-de
DTSTAMP:20260416T090002Z
DTSTART:20260514T053000Z
DTEND:20260514T063000Z
SUMMARY;LANGUAGE=de:Eucharistiefeier
END:VEVENT
END:VCALENDAR
