BEGIN:VCALENDAR
VERSION:2.0
PRODID:http://pfarrei-tschirn.de
BEGIN:VEVENT
UID:8fa8db68-2f3b-11f1-a8bf-0242ac11002b-1777645800000-de
DTSTAMP:20260403T090028Z
DTSTART:20260501T143000Z
DTEND:20260501T153000Z
SUMMARY;LANGUAGE=de:Abtei Maria Frieden: Maiandacht
DESCRIPTION;LANGUAGE=de:Maiandacht
END:VEVENT
END:VCALENDAR
