BEGIN:VCALENDAR
VERSION:2.0
PRODID:http://pfarrei-tschirn.de
BEGIN:VEVENT
UID:8f9cf484-2f3b-11f1-a8bf-0242ac11002b-1777651200000-de
DTSTAMP:20260403T090028Z
DTSTART:20260501T160000Z
DTEND:20260501T163000Z
SUMMARY;LANGUAGE=de:1. Feierliche Mai-Andacht
END:VEVENT
END:VCALENDAR
