BEGIN:VCALENDAR
VERSION:2.0
PRODID:http://pfarrei-tschirn.de
BEGIN:VEVENT
UID:8f76f5ea-2f3b-11f1-a8bf-0242ac11002b-1777622400000-de
DTSTAMP:20260403T090028Z
DTSTART:20260501T080000Z
DTEND:20260501T090000Z
SUMMARY;LANGUAGE=de:Eucharistiefeier
DESCRIPTION;LANGUAGE=de:an der Grotte
END:VEVENT
END:VCALENDAR
