BEGIN:VCALENDAR
VERSION:2.0
PRODID:http://pfarrei-tschirn.de
BEGIN:VEVENT
UID:8a2173c5-2f3b-11f1-a8bf-0242ac11002b-1777636800000-de
DTSTAMP:20260403T090019Z
DTSTART:20260501T120000Z
DTEND:20260501T130000Z
SUMMARY;LANGUAGE=de:Festandacht zum Markustag
END:VEVENT
END:VCALENDAR
