BEGIN:VCALENDAR
VERSION:2.0
PRODID:http://pfarrei-tschirn.de
BEGIN:VEVENT
UID:85cb2f47-38a9-11f1-a8bf-0242ac11002b-1778688000000-de
DTSTAMP:20260415T090017Z
DTSTART:20260513T160000Z
DTEND:20260513T170000Z
SUMMARY;LANGUAGE=de:Fatima-Rosenkranz
END:VEVENT
END:VCALENDAR
