BEGIN:VCALENDAR
VERSION:2.0
PRODID:http://pfarrei-tschirn.de
BEGIN:VEVENT
UID:85bfaf57-33f2-11f1-a8bf-0242ac11002b-1778166000000-de
DTSTAMP:20260409T090014Z
DTSTART:20260507T150000Z
DTEND:20260507T160000Z
SUMMARY;LANGUAGE=de:Maiandacht der Wohnviertelhelferinnen
DESCRIPTION;LANGUAGE=de:in Niederau an der Kapelle d. Fam. Böhmer. Die Seniorenbetreuung der Pfarrei Ebensfeld bietet auch in diesem Jahr eine Maiandacht in Niederau an. Die Andacht findet am 7.Mai um 17:00Uhr in Niederau bei der Kapelle der Familie Böhmer statt. Wie in den letzten Jahren ist auch wieder im Anschluss ein gemütliches Beisammensein vorgesehen\, herzliche Einladung an alle. Bitte fürs Mitsingen das Gotteslob mitbringen.
END:VEVENT
END:VCALENDAR
