BEGIN:VCALENDAR
VERSION:2.0
PRODID:http://pfarrei-tschirn.de
BEGIN:VEVENT
UID:854e6878-2f3b-11f1-a8bf-0242ac11002b-1777620600000-de
DTSTAMP:20260403T090011Z
DTSTART:20260501T073000Z
DTEND:20260501T083000Z
SUMMARY;LANGUAGE=de:Eucharistiefeier
END:VEVENT
END:VCALENDAR
