BEGIN:VCALENDAR
VERSION:2.0
PRODID:http://pfarrei-tschirn.de
BEGIN:VEVENT
UID:7ec3813e-33f2-11f1-a8bf-0242ac11002b-1778133600000-de
DTSTAMP:20260409T090002Z
DTSTART:20260507T060000Z
DTEND:20260507T070000Z
SUMMARY;LANGUAGE=de:Eucharistiefeier (Domkapitel)
END:VEVENT
END:VCALENDAR
