BEGIN:VCALENDAR
VERSION:2.0
PRODID:http://pfarrei-tschirn.de
BEGIN:VEVENT
UID:7ebc724e-3d60-11f1-a8bf-0242ac11002b-1779208200000-de
DTSTAMP:20260421T090007Z
DTSTART:20260519T163000Z
DTEND:20260519T173000Z
SUMMARY;LANGUAGE=de:Eucharistiefeier
DESCRIPTION;LANGUAGE=de:und Anbetung
END:VEVENT
END:VCALENDAR
