BEGIN:VCALENDAR
VERSION:2.0
PRODID:http://pfarrei-tschirn.de
BEGIN:VEVENT
UID:658828ce-37e0-11f1-a8bf-0242ac11002b-1777737600000-de
DTSTAMP:20260414T090034Z
DTSTART:20260502T160000Z
DTEND:20260502T170000Z
SUMMARY;LANGUAGE=de:Maiandacht am Pfistergelände
END:VEVENT
END:VCALENDAR
