BEGIN:VCALENDAR
VERSION:2.0
PRODID:http://pfarrei-tschirn.de
BEGIN:VEVENT
UID:6262130b-2e72-11f1-a8bf-0242ac11002b-1777564800000-de
DTSTAMP:20260402T090023Z
DTSTART:20260430T160000Z
DTEND:20260430T170000Z
SUMMARY;LANGUAGE=de:Eucharistiefeier
END:VEVENT
END:VCALENDAR
