BEGIN:VCALENDAR
VERSION:2.0
PRODID:http://pfarrei-tschirn.de
BEGIN:VEVENT
UID:6211a90d-2e72-11f1-a8bf-0242ac11002b-1777561200000-de
DTSTAMP:20260402T090023Z
DTSTART:20260430T150000Z
DTEND:20260430T160000Z
SUMMARY;LANGUAGE=de:Eucharistiefeier
DESCRIPTION;LANGUAGE=de:St. Florian mit der FFW Oberleiterbach
END:VEVENT
END:VCALENDAR
