BEGIN:VCALENDAR
VERSION:2.0
PRODID:http://pfarrei-tschirn.de
BEGIN:VEVENT
UID:606c2c8b-37e0-11f1-a8bf-0242ac11002b-1778602500000-de
DTSTAMP:20260414T090025Z
DTSTART:20260512T161500Z
DTEND:20260512T171500Z
SUMMARY;LANGUAGE=de:Auswallen von Prächting
END:VEVENT
END:VCALENDAR
