BEGIN:VCALENDAR
VERSION:2.0
PRODID:http://pfarrei-tschirn.de
BEGIN:VEVENT
UID:5c62e37c-2e72-11f1-a8bf-0242ac11002b-1777532400000-de
DTSTAMP:20260402T090013Z
DTSTART:20260430T070000Z
DTEND:20260430T080000Z
SUMMARY;LANGUAGE=de:Eucharistiefeier
END:VEVENT
END:VCALENDAR
