BEGIN:VCALENDAR
VERSION:2.0
PRODID:http://pfarrei-tschirn.de
BEGIN:VEVENT
UID:59f6c56b-2e72-11f1-a8bf-0242ac11002b-1777557600000-de
DTSTAMP:20260402T090009Z
DTSTART:20260430T140000Z
DTEND:20260430T150000Z
SUMMARY;LANGUAGE=de:Probe d. Erstkommunionkinder
END:VEVENT
END:VCALENDAR
