BEGIN:VCALENDAR
VERSION:2.0
PRODID:http://pfarrei-tschirn.de
BEGIN:VEVENT
UID:5900a578-2e72-11f1-a8bf-0242ac11002b-1777566600000-de
DTSTAMP:20260402T090007Z
DTSTART:20260430T163000Z
DTEND:20260430T170000Z
SUMMARY;LANGUAGE=de:Andacht gestaltet vom PGR
DESCRIPTION;LANGUAGE=de:anschl. Gemeindestammtisch
END:VEVENT
END:VCALENDAR
