BEGIN:VCALENDAR
VERSION:2.0
PRODID:http://pfarrei-tschirn.de
BEGIN:VEVENT
UID:58e8fec1-2e72-11f1-a8bf-0242ac11002b-1777568400000-de
DTSTAMP:20260402T090007Z
DTSTART:20260430T170000Z
DTEND:20260430T180000Z
SUMMARY;LANGUAGE=de:Gebetskreis - Jugend 2000
END:VEVENT
END:VCALENDAR
