BEGIN:VCALENDAR
VERSION:2.0
PRODID:http://pfarrei-tschirn.de
BEGIN:VEVENT
UID:58b36fc2-2e72-11f1-a8bf-0242ac11002b-1777554000000-de
DTSTAMP:20260402T090007Z
DTSTART:20260430T130000Z
DTEND:20260430T140000Z
SUMMARY;LANGUAGE=de:Eucharistiefeier
DESCRIPTION;LANGUAGE=de:im Roncallistift
END:VEVENT
END:VCALENDAR
