BEGIN:VCALENDAR
VERSION:2.0
PRODID:http://pfarrei-tschirn.de
BEGIN:VEVENT
UID:57c2c4c7-37e0-11f1-a8bf-0242ac11002b-1778562000000-de
DTSTAMP:20260414T090010Z
DTSTART:20260512T050000Z
DTEND:20260512T060000Z
SUMMARY;LANGUAGE=de:Eucharistiefeier
END:VEVENT
END:VCALENDAR
