BEGIN:VCALENDAR
VERSION:2.0
PRODID:http://pfarrei-tschirn.de
BEGIN:VEVENT
UID:5704af1a-2e72-11f1-a8bf-0242ac11002b-1777528800000-de
DTSTAMP:20260402T090004Z
DTSTART:20260430T060000Z
DTEND:20260430T070000Z
SUMMARY;LANGUAGE=de:Eucharistiefeier (Domkapitel)
END:VEVENT
END:VCALENDAR
