BEGIN:VCALENDAR
VERSION:2.0
PRODID:http://pfarrei-tschirn.de
BEGIN:VEVENT
UID:5530dd92-3c97-11f1-a8bf-0242ac11002b-1779118200000-de
DTSTAMP:20260420T090009Z
DTSTART:20260518T153000Z
DTEND:20260518T163000Z
SUMMARY;LANGUAGE=de:Aussetzung des Allerheiligsten
END:VEVENT
END:VCALENDAR
