BEGIN:VCALENDAR
VERSION:2.0
PRODID:http://pfarrei-tschirn.de
BEGIN:VEVENT
UID:53944479-3c97-11f1-a8bf-0242ac11002b-1779114600000-de
DTSTAMP:20260420T090006Z
DTSTART:20260518T143000Z
DTEND:20260518T153000Z
SUMMARY;LANGUAGE=de:Eucharistiefeier
END:VEVENT
END:VCALENDAR
