BEGIN:VCALENDAR
VERSION:2.0
PRODID:http://pfarrei-tschirn.de
BEGIN:VEVENT
UID:528d9b70-37e0-11f1-a8bf-0242ac11002b-1778565600000-de
DTSTAMP:20260414T090002Z
DTSTART:20260512T060000Z
DTEND:20260512T070000Z
SUMMARY;LANGUAGE=de:Eucharistiefeier (Domkapitel)
END:VEVENT
END:VCALENDAR
