BEGIN:VCALENDAR
VERSION:2.0
PRODID:http://pfarrei-tschirn.de
BEGIN:VEVENT
UID:3a9ce657-2da9-11f1-a8bf-0242ac11002b-1777449600000-de
DTSTAMP:20260401T090028Z
DTSTART:20260429T080000Z
DTEND:20260429T090000Z
SUMMARY;LANGUAGE=de:Eucharistiefeier
END:VEVENT
END:VCALENDAR
