BEGIN:VCALENDAR
VERSION:2.0
PRODID:http://pfarrei-tschirn.de
BEGIN:VEVENT
UID:3a51ffb9-3bce-11f1-a8bf-0242ac11002b-1779030000000-de
DTSTAMP:20260419T090035Z
DTSTART:20260517T150000Z
DTEND:20260517T160000Z
SUMMARY;LANGUAGE=de:Maiandacht an der Mutter-Gottes-Statue
END:VEVENT
END:VCALENDAR
