BEGIN:VCALENDAR
VERSION:2.0
PRODID:http://pfarrei-tschirn.de
BEGIN:VEVENT
UID:3718dc1a-4085-11f1-a8bf-0242ac11002b-1779553800000-de
DTSTAMP:20260425T090032Z
DTSTART:20260523T163000Z
DTEND:20260523T173000Z
SUMMARY;LANGUAGE=de:Wort-Gottes-Feier
END:VEVENT
END:VCALENDAR
