BEGIN:VCALENDAR
VERSION:2.0
PRODID:http://pfarrei-tschirn.de
BEGIN:VEVENT
UID:367d8658-4085-11f1-a8bf-0242ac11002b-1779548400000-de
DTSTAMP:20260425T090031Z
DTSTART:20260523T150000Z
DTEND:20260523T160000Z
SUMMARY;LANGUAGE=de:Hochamt zum Pfingstfest
END:VEVENT
END:VCALENDAR
