BEGIN:VCALENDAR
VERSION:2.0
PRODID:http://pfarrei-tschirn.de
BEGIN:VEVENT
UID:337b653b-3260-11f1-a8bf-0242ac11002b-1777996800000-de
DTSTAMP:20260407T090018Z
DTSTART:20260505T160000Z
DTEND:20260505T170000Z
SUMMARY;LANGUAGE=de:feierliche Maiandacht
END:VEVENT
END:VCALENDAR
