BEGIN:VCALENDAR
VERSION:2.0
PRODID:http://pfarrei-tschirn.de
BEGIN:VEVENT
UID:336f9bba-3bce-11f1-a8bf-0242ac11002b-1779030000000-de
DTSTAMP:20260419T090023Z
DTSTART:20260517T150000Z
DTEND:20260517T160000Z
SUMMARY;LANGUAGE=de:Hl. Messe im Pfarrhof
DESCRIPTION;LANGUAGE=de:Abschlussgottesdienst der Erstkommunionkinder im SSB
END:VEVENT
END:VCALENDAR
