BEGIN:VCALENDAR
VERSION:2.0
PRODID:http://pfarrei-tschirn.de
BEGIN:VEVENT
UID:32868c2c-3717-11f1-a8bf-0242ac11002b-1778515200000-de
DTSTAMP:20260413T090019Z
DTSTART:20260511T160000Z
DTEND:20260511T170000Z
SUMMARY;LANGUAGE=de:Bittgang nach Geutenreuth
END:VEVENT
END:VCALENDAR
