BEGIN:VCALENDAR
VERSION:2.0
PRODID:http://pfarrei-tschirn.de
BEGIN:VEVENT
UID:321d0d76-3260-11f1-a8bf-0242ac11002b-1778000400000-de
DTSTAMP:20260407T090016Z
DTSTART:20260505T170000Z
DTEND:20260505T180000Z
SUMMARY;LANGUAGE=de:Mai-Andacht in der Kirche
END:VEVENT
END:VCALENDAR
