BEGIN:VCALENDAR
VERSION:2.0
PRODID:http://pfarrei-tschirn.de
BEGIN:VEVENT
UID:317e3aba-4085-11f1-a8bf-0242ac11002b-1779523200000-de
DTSTAMP:20260425T090023Z
DTSTART:20260523T080000Z
DTEND:20260523T090000Z
SUMMARY;LANGUAGE=de:Eucharistiefeier
DESCRIPTION;LANGUAGE=de:zur Diamantenen Hochzeit
END:VEVENT
END:VCALENDAR
