BEGIN:VCALENDAR
VERSION:2.0
PRODID:http://pfarrei-tschirn.de
BEGIN:VEVENT
UID:30e7b3af-2da9-11f1-a8bf-0242ac11002b-1777471200000-de
DTSTAMP:20260401T090011Z
DTSTART:20260429T140000Z
DTEND:20260429T150000Z
SUMMARY;LANGUAGE=de:Probe d. Erstkommunionkinder
END:VEVENT
END:VCALENDAR
