BEGIN:VCALENDAR
VERSION:2.0
PRODID:http://pfarrei-tschirn.de
BEGIN:VEVENT
UID:2fe220d9-3717-11f1-a8bf-0242ac11002b-1778517000000-de
DTSTAMP:20260413T090015Z
DTSTART:20260511T163000Z
DTEND:20260511T173000Z
SUMMARY;LANGUAGE=de:Bittandacht in der Kirche
END:VEVENT
END:VCALENDAR
