BEGIN:VCALENDAR
VERSION:2.0
PRODID:http://pfarrei-tschirn.de
BEGIN:VEVENT
UID:2f6c2360-4085-11f1-a8bf-0242ac11002b-1779552000000-de
DTSTAMP:20260425T090019Z
DTSTART:20260523T160000Z
DTEND:20260523T170000Z
SUMMARY;LANGUAGE=de:Seelsorgebereichsgottesdienst
DESCRIPTION;LANGUAGE=de:* Leb. u. Verst. aller Pfarreien des Seelsorgebereichs mit Vorstellung der neuen Pfarrgemeinderäte und Verabschiedung der ausgeschiedenen Pfarrgemeinderäte aus dem gesamten Seelsorgebereich
END:VEVENT
END:VCALENDAR
